BEGIN:VCALENDAR
VERSION:2.0
PRODID:-//Acton Trails - ECPv5.12.3//NONSGML v1.0//EN
CALSCALE:GREGORIAN
METHOD:PUBLISH
X-WR-CALNAME:Acton Trails
X-ORIGINAL-URL:https://trails.actonma.gov
X-WR-CALDESC:Events for Acton Trails
BEGIN:VTIMEZONE
TZID:America/New_York
BEGIN:DAYLIGHT
TZOFFSETFROM:-0500
TZOFFSETTO:-0400
TZNAME:EDT
DTSTART:20160313T070000
END:DAYLIGHT
BEGIN:STANDARD
TZOFFSETFROM:-0400
TZOFFSETTO:-0500
TZNAME:EST
DTSTART:20161106T060000
END:STANDARD
END:VTIMEZONE
BEGIN:VEVENT
DTSTART;TZID=America/New_York:20160917T090000
DTEND;TZID=America/New_York:20160917T120000
DTSTAMP:20260421T112033
CREATED:20160810T153138Z
LAST-MODIFIED:20160810T153138Z
UID:845-1474102800-1474113600@trails.actonma.gov
SUMMARY:OARS’ 30th Annual River Cleanup
DESCRIPTION:OARS’ 30th Annual River Cleanup will be on Saturday\, September 17 at 9:00 a.m.\nVolunteer to come out to clean up the Assabet\, Sudbury\, and Concord Rivers! Hundreds of tires\, bed frames\, computers\, TVs\, a transmission\, bicycles and more were piled high by the end of the morning. This year volunteers will again work along all three rivers. The cleanup improves the rivers for both people and critters\, while bringing attention to the recovery of our rivers.\nTo volunteer: contact OARS at 978-369-3956 or office@oars3rivers.org. More information at www.oars3rivers.org. \nOars flyer
URL:https://trails.actonma.gov/event/oars-30th-annual-river-cleanup/
LOCATION:Acton Canoe Launch\, 67 POWDER MILL RD\, Acton\, MA\, 01720\, United States
END:VEVENT
END:VCALENDAR