BEGIN:VCALENDAR
VERSION:2.0
PRODID:-//Acton Trails - ECPv5.12.3//NONSGML v1.0//EN
CALSCALE:GREGORIAN
METHOD:PUBLISH
X-WR-CALNAME:Acton Trails
X-ORIGINAL-URL:https://trails.actonma.gov
X-WR-CALDESC:Events for Acton Trails
BEGIN:VTIMEZONE
TZID:America/New_York
BEGIN:DAYLIGHT
TZOFFSETFROM:-0500
TZOFFSETTO:-0400
TZNAME:EDT
DTSTART:20170312T070000
END:DAYLIGHT
BEGIN:STANDARD
TZOFFSETFROM:-0400
TZOFFSETTO:-0500
TZNAME:EST
DTSTART:20171105T060000
END:STANDARD
END:VTIMEZONE
BEGIN:VEVENT
DTSTART;TZID=America/New_York:20170624T100000
DTEND;TZID=America/New_York:20170624T130000
DTSTAMP:20260421T064630
CREATED:20170314T154210Z
LAST-MODIFIED:20170623T172436Z
UID:1040-1498298400-1498309200@trails.actonma.gov
SUMMARY:Hack that Knotweed!
DESCRIPTION:Release your inner assassin! Help us destroy the Japanese Knotweed growing at the Acton Canoe Launch. We will meet 10AM to 1PM on Saturday June 24\, before the heat of the day. There is a chance of rain that day\, so call me if you are worried we have canceled the party. Knotweed is too hard to kill\, so our control plan is: Chop it to the ground several times a year\, and encourage other native plants so they will shade it out. We will be planting some small trees this time. Bring suitable clothing\, drinking water\, work glove\, and pruning  loppers\,  if you have them. Be prepared for some poison ivy. Please contact Joe Holmes (Joseph.Holmes@alum.mit.edu\, cell 978-844-1182) if you can come\, so I know how many are coming.
URL:https://trails.actonma.gov/event/hack-that-knotweed/
LOCATION:Acton Canoe Launch\, 67 POWDER MILL RD\, Acton\, MA\, 01720\, United States
CATEGORIES:LSC Volunteer Work Party
END:VEVENT
END:VCALENDAR